BEGIN:VCALENDAR
VERSION:2.0
PRODID:-//The Garden of Nâm ~ Retreat &amp; Meditation Center - ECPv6.15.20//NONSGML v1.0//EN
CALSCALE:GREGORIAN
METHOD:PUBLISH
X-WR-CALNAME:The Garden of Nâm ~ Retreat &amp; Meditation Center
X-ORIGINAL-URL:https://nijar.org
X-WR-CALDESC:Events for The Garden of Nâm ~ Retreat &amp; Meditation Center
REFRESH-INTERVAL;VALUE=DURATION:PT1H
X-Robots-Tag:noindex
X-PUBLISHED-TTL:PT1H
BEGIN:VTIMEZONE
TZID:Europe/Madrid
BEGIN:DAYLIGHT
TZOFFSETFROM:+0100
TZOFFSETTO:+0200
TZNAME:CEST
DTSTART:20230326T010000
END:DAYLIGHT
BEGIN:STANDARD
TZOFFSETFROM:+0200
TZOFFSETTO:+0100
TZNAME:CET
DTSTART:20231029T010000
END:STANDARD
BEGIN:DAYLIGHT
TZOFFSETFROM:+0100
TZOFFSETTO:+0200
TZNAME:CEST
DTSTART:20240331T010000
END:DAYLIGHT
BEGIN:STANDARD
TZOFFSETFROM:+0200
TZOFFSETTO:+0100
TZNAME:CET
DTSTART:20241027T010000
END:STANDARD
BEGIN:DAYLIGHT
TZOFFSETFROM:+0100
TZOFFSETTO:+0200
TZNAME:CEST
DTSTART:20250330T010000
END:DAYLIGHT
BEGIN:STANDARD
TZOFFSETFROM:+0200
TZOFFSETTO:+0100
TZNAME:CET
DTSTART:20251026T010000
END:STANDARD
BEGIN:DAYLIGHT
TZOFFSETFROM:+0100
TZOFFSETTO:+0200
TZNAME:CEST
DTSTART:20260329T010000
END:DAYLIGHT
BEGIN:STANDARD
TZOFFSETFROM:+0200
TZOFFSETTO:+0100
TZNAME:CET
DTSTART:20261025T010000
END:STANDARD
END:VTIMEZONE
BEGIN:VTIMEZONE
TZID:Europe/Rome
BEGIN:DAYLIGHT
TZOFFSETFROM:+0100
TZOFFSETTO:+0200
TZNAME:CEST
DTSTART:20240331T010000
END:DAYLIGHT
BEGIN:STANDARD
TZOFFSETFROM:+0200
TZOFFSETTO:+0100
TZNAME:CET
DTSTART:20241027T010000
END:STANDARD
BEGIN:DAYLIGHT
TZOFFSETFROM:+0100
TZOFFSETTO:+0200
TZNAME:CEST
DTSTART:20250330T010000
END:DAYLIGHT
BEGIN:STANDARD
TZOFFSETFROM:+0200
TZOFFSETTO:+0100
TZNAME:CET
DTSTART:20251026T010000
END:STANDARD
BEGIN:DAYLIGHT
TZOFFSETFROM:+0100
TZOFFSETTO:+0200
TZNAME:CEST
DTSTART:20260329T010000
END:DAYLIGHT
BEGIN:STANDARD
TZOFFSETFROM:+0200
TZOFFSETTO:+0100
TZNAME:CET
DTSTART:20261025T010000
END:STANDARD
END:VTIMEZONE
BEGIN:VEVENT
DTSTART;TZID=Europe/Madrid:20250522T160000
DTEND;TZID=Europe/Madrid:20250526T180000
DTSTAMP:20260425T153511
CREATED:20250106T121713Z
LAST-MODIFIED:20250106T121713Z
UID:8690-1747929600-1748282400@nijar.org
SUMMARY:Causal Investigation Advanced Shamanic Retreat with Anna Montis - May 2025
DESCRIPTION:This retreat is available for people that participated in the basic retreat.\n\nCausal Investigation is a chance to widen your view beyond everyday perception and to experience healing that works on a deep and tangible level. Since we are not only rational beings but also dream beings\, it is essential to explore the field of soul (emotion/feelings) with the appropriate methods. Causal Investigation is such a method. In Causal Investigation one connects in a particular way to soul impressions. It is a natural magical self-psychology and healing far beyond conventional psychology.\n\nDuring the programme of the event Anna Montis will guide you through a very special experience in private and group gatherings. A balanced programme is offered throughout each day including meditation\, shamanic travelling\, healing and teaching. The programme in the morning\, afternoon and evening is designed to draw you step by step into the experience of shamanic travelling and the exploration of soul.\n\n \nLocation\n\n\nCl. El Cerrillo\, 7\, 04100 Níjar\, Almería\, Spain
URL:https://nijar.org/event/causal-investigation-advanced-shamanic-retreat-with-anna-montis-may-2025
LOCATION:The Garden of Nâm Living\, Níjar Meditation Center\, Nìjar\, Nìjar\, 04100\, Spain
CATEGORIES:Retreats,Shamanism
ATTACH;FMTTYPE=image/jpeg:https://nijar.org/wp-content/uploads/2025/01/P1010568-comp.jpg
ORGANIZER;CN="N%C3%A2m Foundation":MAILTO:contact@livingnam.org
END:VEVENT
BEGIN:VEVENT
DTSTART;TZID=Europe/Rome:20250518T160000
DTEND;TZID=Europe/Rome:20250522T180000
DTSTAMP:20260425T153511
CREATED:20230611T085918Z
LAST-MODIFIED:20250106T121558Z
UID:2244-1747584000-1747936800@nijar.org
SUMMARY:Causal Investigation Basic Shamanic Retreat with Anna Montis - May 2025
DESCRIPTION:This retreat can be extended with the Advanced Shamanic Retreat. \nCausal Investigation is a chance to widen your view beyond everyday perception and to experience healing that works on a deep and tangible level. Since we are not only rational beings but also dream beings\, it is essential to explore the field of soul (emotion/feelings) with the appropriate methods. Causal Investigation is such a method. In Causal Investigation one connects in a particular way to soul impressions. It is a natural magical self-psychology and healing far beyond conventional psychology. \nDuring the programme of the event Anna Montis will guide you through a very special experience in private and group gatherings. A balanced programme is offered throughout each day including meditation\, shamanic travelling\, healing and teaching. The programme in the morning\, afternoon and evening is designed to draw you step by step into the experience of shamanic travelling and the exploration of soul.  \n  \nLocation\n\n\n \nCl. El Cerrillo\, 7\, 04100 Níjar\, Almería\, Spain
URL:https://nijar.org/event/causal-investigation-basic-shamanic-retreat-with-anna-montis-may-2025
LOCATION:The Garden of Nâm Living\, Níjar Meditation Center\, Nìjar\, Nìjar\, 04100\, Spain
CATEGORIES:Retreats,Shamanism
ATTACH;FMTTYPE=image/png:https://nijar.org/wp-content/uploads/2022/11/anna.png
ORGANIZER;CN="N%C3%A2m Foundation":MAILTO:contact@livingnam.org
END:VEVENT
BEGIN:VEVENT
DTSTART;TZID=Europe/Madrid:20241017T160000
DTEND;TZID=Europe/Madrid:20241021T090000
DTSTAMP:20260425T153511
CREATED:20240425T100314Z
LAST-MODIFIED:20240711T171920Z
UID:7361-1729180800-1729501200@nijar.org
SUMMARY:Causal Investigation - October 2024
DESCRIPTION:Causal Investigation is a chance to widen your view beyond everyday perception and to experience healing that works on a deep and tangible level. Since we are not only rational beings but also dream beings\, it is essential to explore the field of soul (emotion/feelings) with the appropriate methods. Causal Investigation is such a method. In Causal Investigation one connects in a particular way to soul impressions. It is a natural magical self-psychology and healing far beyond conventional psychology. During the programme of the event Anna Montis will guide you through a very special experience in private and group gatherings. A balanced programme is offered throughout each day including meditation\, shamanic travelling\, healing and teaching. The programme in the morning\, afternoon and evening is designed to draw you step by step into the experience of shamanic travelling and the exploration of soul.   \nLocation\n\n\n\nCl. El Cerrillo\, 7\, 04100 Níjar\, Almería\, Spain
URL:https://nijar.org/event/causal-investigation-october-2024
LOCATION:The Garden of Nâm Living\, Níjar Meditation Center\, Nìjar\, Nìjar\, 04100\, Spain
CATEGORIES:Retreats,Shamanism
ATTACH;FMTTYPE=image/png:https://nijar.org/wp-content/uploads/2022/11/anna.png
ORGANIZER;CN="N%C3%A2m Foundation":MAILTO:contact@livingnam.org
END:VEVENT
END:VCALENDAR