BEGIN:VCALENDAR
VERSION:2.0
PRODID:-//The Garden of Nâm ~ Retreat &amp; Meditation Center - ECPv6.15.20//NONSGML v1.0//EN
CALSCALE:GREGORIAN
METHOD:PUBLISH
X-ORIGINAL-URL:https://nijar.org
X-WR-CALDESC:Events for The Garden of Nâm ~ Retreat &amp; Meditation Center
REFRESH-INTERVAL;VALUE=DURATION:PT1H
X-Robots-Tag:noindex
X-PUBLISHED-TTL:PT1H
BEGIN:VTIMEZONE
TZID:Europe/Madrid
BEGIN:DAYLIGHT
TZOFFSETFROM:+0100
TZOFFSETTO:+0200
TZNAME:CEST
DTSTART:20230326T010000
END:DAYLIGHT
BEGIN:STANDARD
TZOFFSETFROM:+0200
TZOFFSETTO:+0100
TZNAME:CET
DTSTART:20231029T010000
END:STANDARD
BEGIN:DAYLIGHT
TZOFFSETFROM:+0100
TZOFFSETTO:+0200
TZNAME:CEST
DTSTART:20240331T010000
END:DAYLIGHT
BEGIN:STANDARD
TZOFFSETFROM:+0200
TZOFFSETTO:+0100
TZNAME:CET
DTSTART:20241027T010000
END:STANDARD
BEGIN:DAYLIGHT
TZOFFSETFROM:+0100
TZOFFSETTO:+0200
TZNAME:CEST
DTSTART:20250330T010000
END:DAYLIGHT
BEGIN:STANDARD
TZOFFSETFROM:+0200
TZOFFSETTO:+0100
TZNAME:CET
DTSTART:20251026T010000
END:STANDARD
END:VTIMEZONE
BEGIN:VEVENT
DTSTART;TZID=Europe/Madrid:20241206T143000
DTEND;TZID=Europe/Madrid:20241208T110000
DTSTAMP:20260423T215609
CREATED:20240928T105056Z
LAST-MODIFIED:20241205T164048Z
UID:8199-1733495400-1733655600@nijar.org
SUMMARY:3 Days Yoga Experience December 2024
DESCRIPTION:Features\n\n\n\n\nArrival day: Check in at 15 h\, introduction 16:30\, meditation 18 h\, supper 19.00\nProgram: 3 days with possibility to extend for 2 or 4 days\nDeparture day: Check out after morning Meditation at 11 h\nLiterature: Hand-out\n \nIntroduction into Yoga and all its aspects: \n\nMantra Chanting (Aum)\nPranayama (Anulom Vilom)\nAsana’s (body postures)\nMeditation and Relaxation (Shavasana)\n\n\n\n\nYou will accomplish the following: \n\nWhat is Yoga\nWhat is the meaning of effortlessness\nHow to connect with your body\nRemembering your inner smile\n\n\n\n\n\n\n \n\n\n\nDescription\n\n\n\n\n\nAfter arrival and settling down in your room and having a cup of tea\, we give you a guided tour through the Garden of Nâm Living. Around 16:30 with the introduction\, we will get to know each other more and tell our motivation of participating in this yoga experience. Maybe you have questions you might want to ask. As a movement therapist\, I strive for body-awareness to be created and remembering the inner smile. What is harmony and inner and outer balance? We will all find out on this journey together. \n\n\n\n\n\nAccomodation\n\n\n\nDifferent accomodations are possible\, with single and double rooms. \n\n\n\n \n\n\n\nAvailable facilities: \n\n\n\n\n\n\n\n\nShared shower & toilet\n\n\n\n\n\n\n\n\n\nPrivate Shower & shared toilet\n\n\n\n\n\n\n\n\n\nPrivate bathroom\n\n\n\n\n\n\n\n\n\nXL & private bathroom\n\n\n\n\n\n\n \n\n\n\nProgramme\n\n\n\nCheck the 3 Days Experience details page here. \n\n\n\n\n\n \nLocation\n\n\n\nCl. El Cerrillo\, 7\, 04100 Níjar\, Almería\, Spain
URL:https://nijar.org/event/3-days-yoga-experience-december-2024
LOCATION:The Garden of Nâm Living\, Níjar Meditation Center\, Nìjar\, Nìjar\, 04100\, Spain
CATEGORIES:3 Days Experience Retreat,Patanjali Yoga
ATTACH;FMTTYPE=image/jpeg:https://nijar.org/wp-content/uploads/2023/01/IMG_0302-cut.jpg
END:VEVENT
BEGIN:VEVENT
DTSTART;TZID=Europe/Madrid:20241129T143000
DTEND;TZID=Europe/Madrid:20241201T110000
DTSTAMP:20260423T215609
CREATED:20240928T104723Z
LAST-MODIFIED:20240928T104723Z
UID:8197-1732890600-1733050800@nijar.org
SUMMARY:3 Days Yoga Experience November 2024
DESCRIPTION:Features\n\n\nArrival day: Check in at 15 h\, introduction 16:30\, meditation 18 h\, supper 19.00\nProgram: 3 days with possibility to extend for 2 or 4 days\nDeparture day: Check out after morning Meditation at 11 h\nLiterature: Hand-out\n\nIntroduction into Yoga and all its aspects: \n\n 	Mantra Chanting (Aum)\n 	Pranayama (Anulom Vilom)\n 	Asana’s (body postures)\n 	Meditation and Relaxation (Shavasana)\n\n\n\n\nYou will accomplish the following: \n\n 	What is Yoga\n 	What is the meaning of effortlessness\n 	How to connect with your body\n 	Remembering your inner smile\n\n\n\n\n\n\nDescription\n\n\nAfter arrival and settling down in your room and having a cup of tea\, we give you a guided tour through the Garden of Nâm Living. Around 16:30 with the introduction\, we will get to know each other more and tell our motivation of participating in this yoga experience. Maybe you have questions you might want to ask. As a movement therapist\, I strive for body-awareness to be created and remembering the inner smile. What is harmony and inner and outer balance? We will all find out on this journey together.\n\n\nAccomodation\n\n\nDifferent accomodations are possible\, with single and double rooms.\n\n\n\n\n\nAvailable facilities:\n\n\n\n 	\n\n 	Shared shower & toilet\n\n\n\n\n\n 	\n\n 	Private Shower & shared toilet\n\n\n\n\n\n 	\n\n 	Private bathroom\n\n\n\n\n\n 	\n\n 	XL & private bathroom\n\n\n\n\n\n\nProgramme\n\n\nCheck the 3 Days Experience details page here.\n\n\n\nLocation\n\n\nCl. El Cerrillo\, 7\, 04100 Níjar\, Almería\, Spain
URL:https://nijar.org/event/3-days-yoga-experience-november-2024
LOCATION:The Garden of Nâm Living\, Níjar Meditation Center\, Nìjar\, Nìjar\, 04100\, Spain
CATEGORIES:3 Days Experience Retreat,Patanjali Yoga
ATTACH;FMTTYPE=image/jpeg:https://nijar.org/wp-content/uploads/2023/01/IMG_0302-cut.jpg
END:VEVENT
BEGIN:VEVENT
DTSTART;TZID=Europe/Madrid:20241118T080000
DTEND;TZID=Europe/Madrid:20241124T170000
DTSTAMP:20260423T215609
CREATED:20240317T110253Z
LAST-MODIFIED:20241112T214849Z
UID:7196-1731916800-1732467600@nijar.org
SUMMARY:7 Days Yoga Silence Retreat November 2024 - Completely booked
DESCRIPTION:Features\n\n\n\n\nArrival day: Check in at 15 h\, introduction 16:30\, meditation 18 h\, supper 19.00\nProgram: Five days\nDeparture day: Check out after morning Meditation at 11 h\nLiterature: Yoginâm\, The Treatise of Wu Tse Wei\n \nIntroduction into Yoga and all its aspects: \n\nMantra Chanting (Gayatri Mantra and a second one)\nPranayama (Anulom Vilom\, Kapala Bhati\, Bhastrika and Angi Saar)\nAsana’s (body postures)\nMeditation and Relaxation (Shavasana)\n\n\n\n\nYou will accomplish the following: \n\nEffortlessness and non-judgement\nExplore attitudes and behaviour\nDaily Self Analysis\nSurrender\n\n \nDescription\n\n\n\n\n After arrival and settling down in your room and having a cup of tea\, we give you a guided tour through the Garden of Nâm Living. Around 16:30 with the introduction\, we will get to know each other more and tell our motivation of participating in this yoga retreat. Maybe you have questions you might want to ask. As a movement therapist\, I strive for body-awareness to be created and remembering the inner smile. In a 7 day yoga retreat we dive into experience and the 4 fields of perception and becoming aware of the gates of perception. We dive deeper into knowing your own body\, mind\, intent and soul. How is judgement created. Do you judge yourself? What is the first thing you do when you wake up? How to practise surrender with a smile? We will all find out on this journey together.\n \nAccomodation\n\n\n Different accomodations are possible\, with single and double rooms.\n\n\n\n\n Available facilities: \n\n\n\n\n\n\n\nShared shower & toilet\n\n\n\n\n\n\n\n\n\nPrivate Shower & shared toilet\n\n\n\n\n\n\n\n\n\nPrivate bathroom\n\n\n\n\n\n\n\n\n\nXL & private bathroom\n\n\n\n\n\n\n \n\n\n\nProgramme\n\n\n Check out the 7-Day Experience details page here. \n\n\n\n\n \nLocation\n\n\n Cl. El Cerrillo\, 7\, 04100 Níjar\, Almería\, Spain
URL:https://nijar.org/event/7-days-yoga-silence-retreat-november-2024
LOCATION:The Garden of Nâm Living\, Níjar Meditation Center\, Nìjar\, Nìjar\, 04100\, Spain
CATEGORIES:7 Days Silence Retreat,Patanjali Yoga
ATTACH;FMTTYPE=image/jpeg:https://nijar.org/wp-content/uploads/2023/11/yoga-patanjali-teacher.jpg
ORGANIZER;CN="N%C3%A2m Foundation":MAILTO:contact@livingnam.org
END:VEVENT
END:VCALENDAR