BEGIN:VCALENDAR
VERSION:2.0
PRODID:-//The Garden of Nâm ~ Retreat &amp; Meditation Center - ECPv6.15.20//NONSGML v1.0//EN
CALSCALE:GREGORIAN
METHOD:PUBLISH
X-ORIGINAL-URL:https://nijar.org
X-WR-CALDESC:Events for The Garden of Nâm ~ Retreat &amp; Meditation Center
REFRESH-INTERVAL;VALUE=DURATION:PT1H
X-Robots-Tag:noindex
X-PUBLISHED-TTL:PT1H
BEGIN:VTIMEZONE
TZID:Europe/Madrid
BEGIN:DAYLIGHT
TZOFFSETFROM:+0100
TZOFFSETTO:+0200
TZNAME:CEST
DTSTART:20250330T010000
END:DAYLIGHT
BEGIN:STANDARD
TZOFFSETFROM:+0200
TZOFFSETTO:+0100
TZNAME:CET
DTSTART:20251026T010000
END:STANDARD
BEGIN:DAYLIGHT
TZOFFSETFROM:+0100
TZOFFSETTO:+0200
TZNAME:CEST
DTSTART:20260329T010000
END:DAYLIGHT
BEGIN:STANDARD
TZOFFSETFROM:+0200
TZOFFSETTO:+0100
TZNAME:CET
DTSTART:20261025T010000
END:STANDARD
BEGIN:DAYLIGHT
TZOFFSETFROM:+0100
TZOFFSETTO:+0200
TZNAME:CEST
DTSTART:20270328T010000
END:DAYLIGHT
BEGIN:STANDARD
TZOFFSETFROM:+0200
TZOFFSETTO:+0100
TZNAME:CET
DTSTART:20271031T010000
END:STANDARD
END:VTIMEZONE
BEGIN:VEVENT
DTSTART;TZID=Europe/Madrid:20261202T150000
DTEND;TZID=Europe/Madrid:20261204T110000
DTSTAMP:20260423T172652
CREATED:20251023T144017Z
LAST-MODIFIED:20260104T123333Z
UID:9790-1796223600-1796382000@nijar.org
SUMMARY:3 Days Yoga Experience December 2nd 2026
DESCRIPTION: \nFeatures\n \nArrival day: Check in at 15 h\, introduction 16:30\, meditation 18 h\, supper 19.00 Program: 3 days with a possibility to extend to a 5 day Yoga Intensive Departure day: Check out after morning Meditation at 11 h Literature: Hand-out \n \n\nIntroduction into Yoga and all its aspects: \n\nMantra Chanting (Aum)\nPranayama (Anulom Vilom)\nAsana’s (body postures)\nMeditation and Relaxation (Shavasana)\n\n\n\n\nYou will accomplish the following: \n\nWhat is Yoga\nWhat is the meaning of effortlessness\nHow to connect with your body\nRemembering your inner smile\n\n\n\n\n\n\n \n\n\n\nDescription\n\n\n\n\n\nAfter arrival and settling down in your room and having a cup of tea\, we give you a guided tour through the Garden of Nâm Living. Around 16:30 with the introduction\, we will get to know each other more and tell our motivation of participating in this yoga experience. Maybe you have questions you might want to ask. As a movement therapist\, I strive for body-awareness to be created and remembering the inner smile. What is harmony and inner and outer balance? We will all find out on this journey together. \n\n\n\n\n\n \nAccommodation\n\n\n\nDifferent accommodations are possible\, with single and double rooms. \n\n\n\n \n\n\n\nAvailable facilities: \n\n\n\n\n\n\n\n\nShared shower & toilet\n\n\n\n\n\n\n\n\n\nPrivate Shower & shared toilet\n\n\n\n\n\n\n\n\n\nPrivate bathroom\n\n\n\n\n\n\n\n\n\nXL & private bathroom\n\n\n\n\n\n\n\n\n\n \nProgramme\n\n\n\nCheck the 3 Days Experience details page here. \n\n\n\n\n\n \nLocation\n\n\n\nCl. El Cerrillo\, 7\, 04100 Níjar\, Almería\, Spain
URL:https://nijar.org/event/3-days-yoga-experience-december-2nd-2026
LOCATION:The Garden of Nâm Living\, Níjar Meditation Center\, Nìjar\, Nìjar\, 04100\, Spain
CATEGORIES:3 Days Experience Retreat,Patanjali Yoga
ATTACH;FMTTYPE=image/jpeg:https://nijar.org/wp-content/uploads/2023/01/IMG_0302-cut.jpg
END:VEVENT
BEGIN:VEVENT
DTSTART;TZID=Europe/Madrid:20261202T150000
DTEND;TZID=Europe/Madrid:20261206T110000
DTSTAMP:20260423T172652
CREATED:20251121T205538Z
LAST-MODIFIED:20260104T122327Z
UID:10167-1796223600-1796554800@nijar.org
SUMMARY:5 Days Yoga Intensive December 2026
DESCRIPTION: \nFeatures\n  \nArrival day: Check in at 15 h\, Intro 16:30\, Meditation 18 h\, Supper 19.30\nProgram: Three full days\nDeparture day: Check out after morning meditation at 11\nRecommended literature: Ismael & the Journey of the Return\n \n \n \n\nIntroduction into Yoga and all its aspects: \n\nMantra Chanting (Gayatri Mantra)\nPranayama (Anulom Vilom & Kapala Bhati)\nAsana’s (body postures) & Walking Meditation\nMeditation and Relaxation (Shavasana)\n\n\n\n\nYou will accomplish the following: \n\nIntegration of Yoga in daily life\nHow effortless am I?\nMeditation in movement\nDeepening the inner smile\n\n\n\n\n\n\n \n\n\n\nDescription\n\n\n\n\n\nAfter arrival and settling down in your room and having a cup of tea\, we give you a guided tour through the Garden of Nâm Living. Around 16:30 with the introduction\, we will get to know each other more and tell our motivation of participating in this yoga retreat. Maybe you have questions you might want to ask. As a movement therapist\, I strive for body-awareness to be created with an attitude of Awe and Wonder. In a 5 day Yoga intensive we will deepen the meaning of yoga and connection with ‘I’ and ‘World’. What does deepening mean? How to implement yoga in daily life? We will all find out on this journey together. \n\n\n\n\n\n \nAccommodation\n\n\n\nDifferent accommodations are possible\, with single and double rooms. \n\n\n\n\n\n  \nAvailable facilities: \n\n\n\n\n\n\n\n\nShared shower & toilet\n\n\n\n\n\n\n\n\n\nPrivate Shower & shared toilet\n\n\n\n\n\n\n\n\n\nPrivate bathroom\n\n\n\n\n\n\n\n\n\nXL & private bathroom\n\n\n\n\n\n\n \n\n\n\nProgramme\n\n\n\nCheck out the 5 Days Experience details page here. \n\n\n\n\n\n \nLocation\n\n\n\nCl. El Cerrillo\, 7\, 04100 Níjar\, Almería\, Spain
URL:https://nijar.org/event/5-days-yoga-intensive-december-2026
LOCATION:The Garden of Nâm Living\, Níjar Meditation Center\, Nìjar\, Nìjar\, 04100\, Spain
CATEGORIES:5 Days Intensive Retreat,Patanjali Yoga
ATTACH;FMTTYPE=image/jpeg:https://nijar.org/wp-content/uploads/2024/10/Goodmorning-Yoga.jpg
END:VEVENT
BEGIN:VEVENT
DTSTART;TZID=Europe/Madrid:20261202T150000
DTEND;TZID=Europe/Madrid:20261208T110000
DTSTAMP:20260423T172652
CREATED:20251120T104922Z
LAST-MODIFIED:20260104T122957Z
UID:10116-1796223600-1796727600@nijar.org
SUMMARY:7 Days Yoga & Silence Retreat December 2026
DESCRIPTION: \nFeatures\n\n\n\n\n \nArrival day: Check in at 15 h\, introduction 16:30\, meditation 18 h\, supper 19.00\nProgram: Five days\nDeparture day: Check out after morning Meditation at 11 h\nLiterature: Yoginâm\, SIWEB – Dimensions of Experience\n\n \n \n\nIntroduction into Yoga and all its aspects: \n\nMantra Chanting (Gayatri Mantra and a second one)\nPranayama (Anulom Vilom\, Kapala Bhati\, Bhastrika and Angi Saar)\nAsana’s (body postures)\nMeditation and Relaxation (Shavasana)\n\n\n\n\nYou will accomplish the following: \n\nEffortlessness and non-judgement\nExplore attitudes and behaviour\nDaily Self Analysis\nSurrender\n\n \nDescription\n\n\n\n\n\nAfter arrival and settling down in your room and having a cup of tea\, we give you a guided tour through the Garden of Nâm Living. Around 16:30 with the introduction\, we will get to know each other more and tell our motivation of participating in this yoga retreat. Maybe you have questions you might want to ask. As a movement therapist\, I strive for body-awareness to be created and remembering the inner smile. In a 7 day yoga retreat we dive into experience and the 4 fields of perception and becoming aware of the gates of perception. We dive deeper into knowing your own body\, mind\, intent and soul. How is judgement created. Do you judge yourself? What is the first thing you do when you wake up? How to practise surrender with a smile? We will all find out on this journey together.\n \nAccomodation\nDifferent accomodations are possible\, with single and double rooms.\n \n \n\n\n\n\n Available facilities:\n \n\n\n\n\n\n\n\n\nShared shower & toilet\n\n\n\n\n\n\n\n\n\nPrivate Shower & shared toilet\n\n\n\n\n\n\n\n\n\nPrivate bathroom\n\n\n\n\n\n\n\n\n\nXL & private bathroom\n\n\n\n\n\n\n \n\n\n\nProgramme\n\n\n Check out the 7-Day Experience details page here. \n\n\n\n\n \nLocation\n\n\n\n \nCl. El Cerrillo\, 7\, 04100 Níjar\, Almería\, Spain\n 
URL:https://nijar.org/event/7-days-yoga-silence-retreat-december-2026
LOCATION:The Garden of Nâm Living\, Níjar Meditation Center\, Nìjar\, Nìjar\, 04100\, Spain
CATEGORIES:7 Days Silence Retreat,Patanjali Yoga
ATTACH;FMTTYPE=image/jpeg:https://nijar.org/wp-content/uploads/2023/11/yoga-patanjali-teacher.jpg
END:VEVENT
END:VCALENDAR